BEGIN:VCALENDAR
VERSION:2.0
PRODID:-//wp-events-plugin.com//5.99912//EN
TZID:Europe/Berlin
X-WR-TIMEZONE:Europe/Berlin
BEGIN:VEVENT
UID:0-250@neidlingen.albverein.eu
DTSTART;TZID=Europe/Berlin:20260423T133000
DTEND;TZID=Europe/Berlin:20260423T183000
DTSTAMP:20260410T162333Z
URL:https://neidlingen.albverein.eu/events/besuch-im-k%c2%b3-kompetenzzent
 rum-kreislaufwirtschaft-der-firma-feess/
SUMMARY:Besuch im K³-Kompetenzzentrum Kreislaufwirtschaft der Firma Feeß
DESCRIPTION:Walter Feeß erkannte bereits vor 25 Jahren das enorme Potenzia
 l im Recycling von mineralischen Abfällen. Unter anderem für seine groß
 es Engagement im Bereich Recycling wurde er 2025 mit dem Verdienstorden de
 s Landes Baden-Württemberg ausgezeichnet.\nDie Vison der Firma Feeß ist:
  Kreislaufwirtschaft - verwerten vor beseitigen für eine lebenswerte Zuku
 nft kommender Generationen. Im neuen K³ (Kompetenzzentrum für Kreislaufw
 irtschaft Kirchheim) werden Lösungsansätze gezeigt\, wie dies in Zukunft
  gelingen kann.\n\nIm Rahmen einer Wohlfühlwanderung besucht der Albverei
 n Neidlingen das K³ in Kirchheim. Der Teilnahmebeitrag in Höhe von € 1
 0\,00 dient dazu\, junge Menschen zu fördern und sie hinsichtlich Kreisla
 ufwirtschaft\, Umweltschutz und Nachhaltigkeit zu qualifizieren.\n\nFür d
 en Betriebsrundgang im Außenbereich wird das Tragen von festen\, unempfin
 dlichen Schuhen und ggfls. wetterfester Kleidung empfohlen.\n\nDie zweist
 ündige Führung beginnt um 14 Uhr im Recycling-Park Rabailen\, Kirchheim\
 , Nürtinger Straße 124. Anschließend ist eine Einkehr geplant.\n\nAnfah
 rt per Privat-PKW\, Treffpunkt Alte Schule Neidlingen 13:30 Uhr\, Limburgh
 alle Weilheim 13:35 Uhr. Mitfahrgelegenheit wird geboten.\n\nAnmeldung bis
  Freitag\, 18. April 2026 unter gerhard.hepperle@t-online.de oder 07023-48
 56\, die Plätze sind begrenzt.\n\nNichtmitglieder des Schwäbischen Albve
 reins sind herzlich willkommen\, zahlen jedoch eine zusätzliche Teilnahme
 gebühr von € 5\,00.\n\n&nbsp\;\n\n&nbsp\;
END:VEVENT
BEGIN:VTIMEZONE
TZID:Europe/Berlin
X-LIC-LOCATION:Europe/Berlin
BEGIN:DAYLIGHT
DTSTART:20260329T030000
TZOFFSETFROM:+0100
TZOFFSETTO:+0200
TZNAME:CEST
END:DAYLIGHT
END:VTIMEZONE
END:VCALENDAR