BEGIN:VCALENDAR
VERSION:2.0
PRODID:-//wp-events-plugin.com//5.99912//EN
TZID:Europe/Berlin
X-WR-TIMEZONE:Europe/Berlin
BEGIN:VEVENT
UID:0-249@neidlingen.albverein.eu
DTSTART;TZID=Europe/Berlin:20260712T080000
DTEND;TZID=Europe/Berlin:20260712T193000
DTSTAMP:20260410T161436Z
URL:https://neidlingen.albverein.eu/events/busfahrt-zur-landesgartenschau-
 nach-ellwangen/
SUMMARY:Busfahrt zur Landesgartenschau nach Ellwangen
DESCRIPTION:Ellwangen an der Jagst lädt vom 24. April bis zum 4. Oktober 2
 026 zur Landesgartenschau ein.\n\nDer Albverein Neidlingen fährt am 12. J
 uli 2026 mit dem Bus zu diesem Sommerevent. Dazu sind besonders die Famili
 en unserer Familiengruppe\, aber natürlich auch alle anderen Interessente
 n eingeladen.\n\nFür Kinder von 4 bis 7 Jahren ist eine kindgerechte Füh
 rung mit etwa einer Stunde Dauer vorgesehen\, für die Erwachsenen eine 90
  minütige Führung. Danach gibt es genug Zeit und Gelegenheit\, das Garte
 nschaugelände auf eigene Faust zu erkunden und - für die Kinder - die za
 hlreichen Spielplätze unsicher zu machen.\n\nDie Gesamtkosten einschließ
 lich Fahrt\, Eintritt und Führung betragen für Erwachsene € 50\,00. Ki
 nder und Jugendliche sind frei.\n\nAbfahrt ist an der Alten Schule in Neid
 lingen um 8 Uhr\, die Rückfahrt in Ellwangen ist um 18 Uhr geplant.\n\nAn
 meldung unter gerhard.hepperle@t-online.de oder 07023-4856. Die Plätze si
 nd begrenzt!\n\nNichtmitglieder des Schwäbischen Albvereins sind herzlich
  willkommen\, zahlen jedoch eine zusätzliche Teilnahmegebühr von € 5\,
 00.
END:VEVENT
BEGIN:VTIMEZONE
TZID:Europe/Berlin
X-LIC-LOCATION:Europe/Berlin
BEGIN:DAYLIGHT
DTSTART:20260329T030000
TZOFFSETFROM:+0100
TZOFFSETTO:+0200
TZNAME:CEST
END:DAYLIGHT
END:VTIMEZONE
END:VCALENDAR